BEGIN:VCALENDAR
VERSION:2.0
PRODID:-//Contratero//ES
CALSCALE:GREGORIAN
METHOD:PUBLISH
BEGIN:VEVENT
UID:PAS 1108/2025@contratero.es
DTSTAMP:20260419T143713Z
DTSTART:20250722T235959
DTEND:20250723T005959
SUMMARY:Cierre: Servicios de mantenimiento y soporte del sistema d
DESCRIPTION:Servicios de mantenimiento y soporte del sistema de información e-BDI Plus® para los servicios de hematología  y genética del departamento de salud valencia la fe por procedimiento abierto simplificad...\\n\\nOrganismo: Departamento de Salud La Fe. Dirección Económica-Gerencia\\n\\nVer en Contratero: https://contratero.es/contracts/PAS 1108/2025
URL:https://contratero.es/contracts/PAS 1108/2025
STATUS:CONFIRMED
BEGIN:VALARM
TRIGGER:-P1D
ACTION:DISPLAY
DESCRIPTION:Recordatorio: Servicios de mantenimiento y s
END:VALARM
END:VEVENT
END:VCALENDAR